BEGIN:VCALENDAR
VERSION:2.0
PRODID:-//DJK Ottenhofen e.V. - Sportgemeinschaft seit 1956 - ECPv6.15.15//NONSGML v1.0//EN
CALSCALE:GREGORIAN
METHOD:PUBLISH
X-WR-CALNAME:DJK Ottenhofen e.V. - Sportgemeinschaft seit 1956
X-ORIGINAL-URL:https://djk-ottenhofen.de
X-WR-CALDESC:Veranstaltungen für DJK Ottenhofen e.V. - Sportgemeinschaft seit 1956
REFRESH-INTERVAL;VALUE=DURATION:PT1H
X-Robots-Tag:noindex
X-PUBLISHED-TTL:PT1H
BEGIN:VTIMEZONE
TZID:Europe/Berlin
BEGIN:DAYLIGHT
TZOFFSETFROM:+0100
TZOFFSETTO:+0200
TZNAME:CEST
DTSTART:20250330T010000
END:DAYLIGHT
BEGIN:STANDARD
TZOFFSETFROM:+0200
TZOFFSETTO:+0100
TZNAME:CET
DTSTART:20251026T010000
END:STANDARD
BEGIN:DAYLIGHT
TZOFFSETFROM:+0100
TZOFFSETTO:+0200
TZNAME:CEST
DTSTART:20260329T010000
END:DAYLIGHT
BEGIN:STANDARD
TZOFFSETFROM:+0200
TZOFFSETTO:+0100
TZNAME:CET
DTSTART:20261025T010000
END:STANDARD
BEGIN:DAYLIGHT
TZOFFSETFROM:+0100
TZOFFSETTO:+0200
TZNAME:CEST
DTSTART:20270328T010000
END:DAYLIGHT
BEGIN:STANDARD
TZOFFSETFROM:+0200
TZOFFSETTO:+0100
TZNAME:CET
DTSTART:20271031T010000
END:STANDARD
END:VTIMEZONE
BEGIN:VEVENT
DTSTART;TZID=Europe/Berlin:20260709T190000
DTEND;TZID=Europe/Berlin:20260709T190000
DTSTAMP:20260421T104454
CREATED:20251029T082036Z
LAST-MODIFIED:20260225T084954Z
UID:3123-1783623600-1783623600@djk-ottenhofen.de
SUMMARY:Wattturnier im Festzelt
DESCRIPTION:
URL:https://djk-ottenhofen.de/termine/wattturnier-im-festzelt/
LOCATION:DJK Sportgelände\, Herdweger Straße 4\, 85570 Ottenhofen\, 85570
CATEGORIES:Festwoche 70 Jahre DJK
END:VEVENT
BEGIN:VEVENT
DTSTART;TZID=Europe/Berlin:20260710T190000
DTEND;TZID=Europe/Berlin:20260710T190000
DTSTAMP:20260421T104454
CREATED:20251029T082308Z
LAST-MODIFIED:20260225T084749Z
UID:3125-1783710000-1783710000@djk-ottenhofen.de
SUMMARY:Disco Party mit DJ Josch
DESCRIPTION:
URL:https://djk-ottenhofen.de/termine/disco-party-mit-dj-josch/
LOCATION:DJK Sportgelände\, Herdweger Straße 4\, 85570 Ottenhofen\, 85570
CATEGORIES:Festwoche 70 Jahre DJK
END:VEVENT
BEGIN:VEVENT
DTSTART;TZID=Europe/Berlin:20260711T180000
DTEND;TZID=Europe/Berlin:20260711T180000
DTSTAMP:20260421T104454
CREATED:20251029T085607Z
LAST-MODIFIED:20260225T085035Z
UID:3127-1783792800-1783792800@djk-ottenhofen.de
SUMMARY:Festzeltparty mit Drunter & Drüber
DESCRIPTION:
URL:https://djk-ottenhofen.de/termine/festzeltparty-mit-drunter-drueber/
LOCATION:DJK Sportgelände\, Herdweger Straße 4\, 85570 Ottenhofen\, 85570
CATEGORIES:Festwoche 70 Jahre DJK
END:VEVENT
BEGIN:VEVENT
DTSTART;TZID=Europe/Berlin:20260712T100000
DTEND;TZID=Europe/Berlin:20260712T100000
DTSTAMP:20260421T104454
CREATED:20251029T085757Z
LAST-MODIFIED:20260225T085058Z
UID:3129-1783850400-1783850400@djk-ottenhofen.de
SUMMARY:Bayrischer Festsonntag
DESCRIPTION:
URL:https://djk-ottenhofen.de/termine/bayrischer-festsonntag/
LOCATION:DJK Sportgelände\, Herdweger Straße 4\, 85570 Ottenhofen\, 85570
CATEGORIES:Festwoche 70 Jahre DJK
END:VEVENT
END:VCALENDAR